BEGIN:VCALENDAR
VERSION:2.0
PRODID:-//CERN//INDICO//EN
BEGIN:VEVENT
SUMMARY:COMCHA EB
DTSTART;VALUE=DATE-TIME:20260612T080000Z
DTEND;VALUE=DATE-TIME:20260612T091000Z
DTSTAMP;VALUE=DATE-TIME:20260424T055051Z
UID:indico-event-8579@indico.ific.uv.es
DESCRIPTION:Agenda: \n\nGobernanza:\n\n- WG conveners selection. \n\nFun
 ding:  \n\n- Call - Redes de investigación: Input needed: deadline 1/07
  (expected). \n\nTraining: \n\n    - Program for the senior training (
 we need a good name for this!).      \n\n    - Check completion of G
 ithub repo: https://github.com/comcha-net\n\nAOB\n\nZoom Link:\n\nhttps:/
 /cern.zoom.us/j/61219866906?pwd=Oa64TbHHUJhgNLL2oGHCGbu9afYBX1.1\n\nMeetin
 g ID: 612 1986 6906\nPasscode: 155514\n\n \n\nLive minutes of the meeting
 : \n\nhttps://codimd.web.cern.ch/s/AwfvMFOMv#\n\n \n\n \n\nhttps://indi
 co.ific.uv.es/event/8579/
LOCATION:
URL:https://indico.ific.uv.es/event/8579/
END:VEVENT
END:VCALENDAR
