BEGIN:VCALENDAR
VERSION:2.0
PRODID:-//CERN//INDICO//EN
BEGIN:VEVENT
SUMMARY:DUNE-IFIC meeting
DTSTART;VALUE=DATE-TIME:20260422T080000Z
DTEND;VALUE=DATE-TIME:20260422T091000Z
DTSTAMP;VALUE=DATE-TIME:20260423T051310Z
UID:indico-event-8575@indico.ific.uv.es
DESCRIPTION:https://indico.ific.uv.es/event/8575/
LOCATION:Universe 1001-Primera-119 - Nave. Exp. Sala de Reuniones
URL:https://indico.ific.uv.es/event/8575/
END:VEVENT
END:VCALENDAR
