BEGIN:VCALENDAR
VERSION:2.0
PRODID:-//CERN//INDICO//EN
BEGIN:VEVENT
SUMMARY:DUNE FD-VD mock up installation at CERN
DTSTART;VALUE=DATE-TIME:20260422T083000Z
DTEND;VALUE=DATE-TIME:20260422T084000Z
DTSTAMP;VALUE=DATE-TIME:20260423T220524Z
UID:indico-contribution-30352@indico.ific.uv.es
DESCRIPTION:Speakers: Anselmo Cervera (IFIC)\nhttps://indico.ific.uv.es/ev
 ent/8575/contributions/30352/
LOCATION:Universe 1001-Primera-119 - Nave. Exp. Sala de Reuniones
URL:https://indico.ific.uv.es/event/8575/contributions/30352/
END:VEVENT
END:VCALENDAR
