BEGIN:VCALENDAR
VERSION:2.0
PRODID:-//CERN//INDICO//EN
BEGIN:VEVENT
SUMMARY:Analysis of ProtoDUNE-VD light data with Xe doping
DTSTART;VALUE=DATE-TIME:20260422T081500Z
DTEND;VALUE=DATE-TIME:20260422T083000Z
DTSTAMP;VALUE=DATE-TIME:20260423T114636Z
UID:indico-contribution-30351@indico.ific.uv.es
DESCRIPTION:Speakers: Andrea Roche Fernández (IFIC)\nhttps://indico.ific.
 uv.es/event/8575/contributions/30351/
LOCATION:Universe 1001-Primera-119 - Nave. Exp. Sala de Reuniones
URL:https://indico.ific.uv.es/event/8575/contributions/30351/
END:VEVENT
END:VCALENDAR
