BEGIN:VCALENDAR
VERSION:2.0
PRODID:-//CERN//INDICO//EN
BEGIN:VEVENT
SUMMARY:K0 analysis in ProtoDUNE-HD
DTSTART;VALUE=DATE-TIME:20260422T080000Z
DTEND;VALUE=DATE-TIME:20260422T081500Z
DTSTAMP;VALUE=DATE-TIME:20260423T114640Z
UID:indico-contribution-30349@indico.ific.uv.es
DESCRIPTION:Speakers: Jordi Capó (IFIC)\nhttps://indico.ific.uv.es/event/
 8575/contributions/30349/
LOCATION:Universe 1001-Primera-119 - Nave. Exp. Sala de Reuniones
URL:https://indico.ific.uv.es/event/8575/contributions/30349/
END:VEVENT
END:VCALENDAR
