BEGIN:VCALENDAR
VERSION:2.0
PRODID:-//CERN//INDICO//EN
BEGIN:VEVENT
SUMMARY:Avances Juan Carlos
DTSTART;VALUE=DATE-TIME:20260423T080000Z
DTEND;VALUE=DATE-TIME:20260423T083000Z
DTSTAMP;VALUE=DATE-TIME:20260424T063606Z
UID:indico-contribution-8572-30318@indico.ific.uv.es
DESCRIPTION:Speakers: Juan Carlos Fernandez Ortega (IFIMED - IFIC - UV)\nh
 ttps://indico.ific.uv.es/event/8572/contributions/30318/
LOCATION:Universe IFICMED-Primera-15 - IFIMED Sala de reuniones
URL:https://indico.ific.uv.es/event/8572/contributions/30318/
END:VEVENT
BEGIN:VEVENT
SUMMARY:Avances de Laura
DTSTART;VALUE=DATE-TIME:20260423T073000Z
DTEND;VALUE=DATE-TIME:20260423T080000Z
DTSTAMP;VALUE=DATE-TIME:20260424T063606Z
UID:indico-contribution-8572-30317@indico.ific.uv.es
DESCRIPTION:Speakers: Laura Pedraza Motavita ()\nhttps://indico.ific.uv.es
 /event/8572/contributions/30317/
LOCATION:Universe IFICMED-Primera-15 - IFIMED Sala de reuniones
URL:https://indico.ific.uv.es/event/8572/contributions/30317/
END:VEVENT
END:VCALENDAR
