BEGIN:VCALENDAR
VERSION:2.0
PRODID:-//CERN//INDICO//EN
BEGIN:VEVENT
SUMMARY:Discussion & AOB
DTSTART;VALUE=DATE-TIME:20260420T085000Z
DTEND;VALUE=DATE-TIME:20260420T090000Z
DTSTAMP;VALUE=DATE-TIME:20260424T021600Z
UID:indico-contribution-8569-30306@indico.ific.uv.es
DESCRIPTION:https://indico.ific.uv.es/event/8569/contributions/30306/
LOCATION:
URL:https://indico.ific.uv.es/event/8569/contributions/30306/
END:VEVENT
BEGIN:VEVENT
SUMMARY:Working groups substructure
DTSTART;VALUE=DATE-TIME:20260420T083500Z
DTEND;VALUE=DATE-TIME:20260420T084500Z
DTSTAMP;VALUE=DATE-TIME:20260424T021600Z
UID:indico-contribution-8569-30305@indico.ific.uv.es
DESCRIPTION:Speakers: Arantza Oyanguren (IFIC- Valencia)\, Luca Fiorini (I
 FIC / U. Valencia - CSIC)\nhttps://indico.ific.uv.es/event/8569/contributi
 ons/30305/
LOCATION:
URL:https://indico.ific.uv.es/event/8569/contributions/30305/
END:VEVENT
BEGIN:VEVENT
SUMMARY:Intro & general matters
DTSTART;VALUE=DATE-TIME:20260420T080000Z
DTEND;VALUE=DATE-TIME:20260420T080500Z
DTSTAMP;VALUE=DATE-TIME:20260424T021600Z
UID:indico-contribution-8569-30304@indico.ific.uv.es
DESCRIPTION:Speakers: Arantza Oyanguren (IFIC- Valencia)\, Luca Fiorini (I
 FIC / U. Valencia - CSIC)\nhttps://indico.ific.uv.es/event/8569/contributi
 ons/30304/
LOCATION:
URL:https://indico.ific.uv.es/event/8569/contributions/30304/
END:VEVENT
BEGIN:VEVENT
SUMMARY:Web page - news of the school
DTSTART;VALUE=DATE-TIME:20260420T082500Z
DTEND;VALUE=DATE-TIME:20260420T083000Z
DTSTAMP;VALUE=DATE-TIME:20260424T021600Z
UID:indico-contribution-8569-30303@indico.ific.uv.es
DESCRIPTION:https://indico.ific.uv.es/event/8569/contributions/30303/
LOCATION:
URL:https://indico.ific.uv.es/event/8569/contributions/30303/
END:VEVENT
BEGIN:VEVENT
SUMMARY:Feedback from the 4th COMCHA School
DTSTART;VALUE=DATE-TIME:20260420T081000Z
DTEND;VALUE=DATE-TIME:20260420T082000Z
DTSTAMP;VALUE=DATE-TIME:20260424T021600Z
UID:indico-contribution-8569-30302@indico.ific.uv.es
DESCRIPTION:Speakers: Héctor Gómez Maluenda (CAPA - Universidad de Zarag
 oza)\nhttps://indico.ific.uv.es/event/8569/contributions/30302/
LOCATION:
URL:https://indico.ific.uv.es/event/8569/contributions/30302/
END:VEVENT
END:VCALENDAR
