BEGIN:VCALENDAR
VERSION:2.0
PRODID:-//CERN//INDICO//EN
BEGIN:VEVENT
SUMMARY:Poster Session
DTSTART;VALUE=DATE-TIME:20260619T133000Z
DTEND;VALUE=DATE-TIME:20260619T163000Z
DTSTAMP;VALUE=DATE-TIME:20260422T155711Z
UID:indico-event-5400@indico.ific.uv.es
DESCRIPTION:https://indico.ific.uv.es/event/8553/sessions/5400/
LOCATION:IFIC/CSIC-UV Valencia
URL:https://indico.ific.uv.es/event/8553/sessions/5400/
END:VEVENT
END:VCALENDAR
