BEGIN:VCALENDAR
VERSION:2.0
PRODID:-//CERN//INDICO//EN
BEGIN:VEVENT
SUMMARY:Laboratory Session
DTSTART;VALUE=DATE-TIME:20260615T080000Z
DTEND;VALUE=DATE-TIME:20260626T110000Z
DTSTAMP;VALUE=DATE-TIME:20260423T033643Z
UID:indico-event-5399@indico.ific.uv.es
DESCRIPTION:https://indico.ific.uv.es/event/8553/sessions/5399/
LOCATION:IFIC/CSIC-UV Sala de Reuniones Ed. Laboratorios
URL:https://indico.ific.uv.es/event/8553/sessions/5399/
END:VEVENT
END:VCALENDAR
