BEGIN:VCALENDAR
VERSION:2.0
PRODID:-//CERN//INDICO//EN
BEGIN:VEVENT
SUMMARY:Theory Session
DTSTART;VALUE=DATE-TIME:20260615T070000Z
DTEND;VALUE=DATE-TIME:20260626T133000Z
DTSTAMP;VALUE=DATE-TIME:20260422T155713Z
UID:indico-event-5398@indico.ific.uv.es
DESCRIPTION:https://indico.ific.uv.es/event/8553/sessions/5398/
LOCATION:IFIC/CSIC-UV Seminario IFIC
URL:https://indico.ific.uv.es/event/8553/sessions/5398/
END:VEVENT
END:VCALENDAR
