BEGIN:VCALENDAR
VERSION:2.0
PRODID:-//CERN//INDICO//EN
BEGIN:VEVENT
SUMMARY:Topical Seminar: Studying the Fermi surface and Spin-Orbit Splitti
 ng in 34Si via (p\,d)
DTSTART;VALUE=DATE-TIME:20260513T130000Z
DTEND;VALUE=DATE-TIME:20260513T140000Z
DTSTAMP;VALUE=DATE-TIME:20260424T131038Z
UID:indico-event-8551@indico.ific.uv.es
DESCRIPTION:We performed the 34Si(p\,d) direct transfer reaction at GANIL 
 using a 50 MeV/A fragmentation beam with the MUST2+EXOGAM+ZDD+CATS setup. 
 The experiment aims to explore the single-particle neutron orbital structu
 re and the Fermi surface of 34Si. We also investigate the spin-orbit split
 ting between the d3/2 and d5/2 orbitals.\n\nhttps://indico.ific.uv.es/even
 t/8551/
LOCATION:Universe 1001-Primera-1-1-1 - Paterna. Seminario
URL:https://indico.ific.uv.es/event/8551/
END:VEVENT
END:VCALENDAR
