BEGIN:VCALENDAR
VERSION:2.0
PRODID:-//CERN//INDICO//EN
BEGIN:VEVENT
SUMMARY:Avances de Laura
DTSTART;VALUE=DATE-TIME:20260417T100000Z
DTEND;VALUE=DATE-TIME:20260417T103000Z
DTSTAMP;VALUE=DATE-TIME:20260420T191854Z
UID:indico-contribution-30221@indico.ific.uv.es
DESCRIPTION:Speakers: Laura Pedraza Motavita ()\nhttps://indico.ific.uv.es
 /event/8540/contributions/30221/
LOCATION:Universe IFICMED-Primera-15 - IFIMED Sala de reuniones
URL:https://indico.ific.uv.es/event/8540/contributions/30221/
END:VEVENT
END:VCALENDAR
