BEGIN:VCALENDAR
VERSION:2.0
PRODID:-//CERN//INDICO//EN
BEGIN:VEVENT
SUMMARY:Status of FBG sensitivity measurements (TBC)
DTSTART;VALUE=DATE-TIME:20260325T091000Z
DTEND;VALUE=DATE-TIME:20260325T092000Z
DTSTAMP;VALUE=DATE-TIME:20260423T210217Z
UID:indico-contribution-8532-30168@indico.ific.uv.es
DESCRIPTION:Speakers: Victoria García Pol (IFIC y UV)\nhttps://indico.ifi
 c.uv.es/event/8532/contributions/30168/
LOCATION:Universe 1001-Primera-119 - Nave. Exp. Sala de Reuniones
URL:https://indico.ific.uv.es/event/8532/contributions/30168/
END:VEVENT
BEGIN:VEVENT
SUMMARY:Reflectance measurements
DTSTART;VALUE=DATE-TIME:20260325T092000Z
DTEND;VALUE=DATE-TIME:20260325T094000Z
DTSTAMP;VALUE=DATE-TIME:20260423T210217Z
UID:indico-contribution-8532-30167@indico.ific.uv.es
DESCRIPTION:Speakers: Hamza Amar Es-sghir (IFIC (UV-CSIC))\nhttps://indico
 .ific.uv.es/event/8532/contributions/30167/
LOCATION:Universe 1001-Primera-119 - Nave. Exp. Sala de Reuniones
URL:https://indico.ific.uv.es/event/8532/contributions/30167/
END:VEVENT
BEGIN:VEVENT
SUMMARY:MASSIBO update
DTSTART;VALUE=DATE-TIME:20260325T090000Z
DTEND;VALUE=DATE-TIME:20260325T091000Z
DTSTAMP;VALUE=DATE-TIME:20260423T210217Z
UID:indico-contribution-8532-30166@indico.ific.uv.es
DESCRIPTION:Speakers: Julio Ureña (IFIC)\nhttps://indico.ific.uv.es/event
 /8532/contributions/30166/
LOCATION:Universe 1001-Primera-119 - Nave. Exp. Sala de Reuniones
URL:https://indico.ific.uv.es/event/8532/contributions/30166/
END:VEVENT
BEGIN:VEVENT
SUMMARY:Round of updates
DTSTART;VALUE=DATE-TIME:20260325T094000Z
DTEND;VALUE=DATE-TIME:20260325T095000Z
DTSTAMP;VALUE=DATE-TIME:20260423T210217Z
UID:indico-contribution-8532-30165@indico.ific.uv.es
DESCRIPTION:https://indico.ific.uv.es/event/8532/contributions/30165/
LOCATION:Universe 1001-Primera-119 - Nave. Exp. Sala de Reuniones
URL:https://indico.ific.uv.es/event/8532/contributions/30165/
END:VEVENT
END:VCALENDAR
