BEGIN:VCALENDAR
VERSION:2.0
PRODID:-//CERN//INDICO//EN
BEGIN:VEVENT
SUMMARY:Reflectance measurements
DTSTART;VALUE=DATE-TIME:20260325T092000Z
DTEND;VALUE=DATE-TIME:20260325T094000Z
DTSTAMP;VALUE=DATE-TIME:20260420T195511Z
UID:indico-contribution-30167@indico.ific.uv.es
DESCRIPTION:Speakers: Hamza Amar Es-sghir (IFIC (UV-CSIC))\nhttps://indico
 .ific.uv.es/event/8532/contributions/30167/
LOCATION:Universe 1001-Primera-119 - Nave. Exp. Sala de Reuniones
URL:https://indico.ific.uv.es/event/8532/contributions/30167/
END:VEVENT
END:VCALENDAR
