BEGIN:VCALENDAR
VERSION:2.0
PRODID:-//CERN//INDICO//EN
BEGIN:VEVENT
SUMMARY:Vino español y networking
DTSTART;VALUE=DATE-TIME:20260420T103000Z
DTEND;VALUE=DATE-TIME:20260420T111500Z
DTSTAMP;VALUE=DATE-TIME:20260420T232337Z
UID:indico-contribution-30102@indico.ific.uv.es
DESCRIPTION:https://indico.ific.uv.es/event/8520/contributions/30102/
LOCATION:Parque Científico UV Salón de Actos. Edificio Cabecera
URL:https://indico.ific.uv.es/event/8520/contributions/30102/
END:VEVENT
END:VCALENDAR
