BEGIN:VCALENDAR
VERSION:2.0
PRODID:-//CERN//INDICO//EN
BEGIN:VEVENT
SUMMARY:Mesa Redonda
DTSTART;VALUE=DATE-TIME:20260420T095000Z
DTEND;VALUE=DATE-TIME:20260420T103000Z
DTSTAMP;VALUE=DATE-TIME:20260420T195513Z
UID:indico-contribution-30101@indico.ific.uv.es
DESCRIPTION:Speakers: Moderador: Lorenzo Brualla ()\nCon la participación
  de: \nEscuela Militar de Defensa NBQ\nRegimiento de Defensa NBQ "Valencia
 " Nº1\nUnidad de Radiofarmacia Hospital Central de la Defensa "Gómez Ull
 a"\n\nhttps://indico.ific.uv.es/event/8520/contributions/30101/
LOCATION:Parque Científico UV Salón de Actos. Edificio Cabecera
URL:https://indico.ific.uv.es/event/8520/contributions/30101/
END:VEVENT
END:VCALENDAR
