BEGIN:VCALENDAR
VERSION:2.0
PRODID:-//CERN//INDICO//EN
BEGIN:VEVENT
SUMMARY:El nuevo panorama europeo de la Defensa: escenarios\, capacidades 
 radiológicas y retos tecnológicos.
DTSTART;VALUE=DATE-TIME:20260420T085000Z
DTEND;VALUE=DATE-TIME:20260420T095000Z
DTSTAMP;VALUE=DATE-TIME:20260421T175726Z
UID:indico-contribution-30100@indico.ific.uv.es
DESCRIPTION:Speakers: Ilmo. Sr. Col. D. Carlos  Ardanaz ()\nSe revisarán 
 las capacidades de defensa españolas para hacer frente a las amenazas rad
 iológicas actuales\, tanto civiles como militares\, en Europa. El anális
 is considerará  la organización y  los niveles administrativos\, con én
 fasis en la instrumentación disponible. \nLa revisión abarcará las Fuer
 zas y Cuerpos de Seguridad\, las Organizaciones de Primera Intervención y
  las Fuerzas Armadas\, a la vez que abarcará la estructura española y lo
 s mecanismos europeos de respuesta ante posibles escenarios radiológicos.
  \nSe comentarán las principales oportunidades de formación y educación
  de vanguardia en este campo\, así como las posibles sinergias con el mun
 do académico para emprender proyectos dirigidos a superar los retos tecno
 lógicos en este campo.\n\nhttps://indico.ific.uv.es/event/8520/contributi
 ons/30100/
LOCATION:Parque Científico UV Salón de Actos. Edificio Cabecera
URL:https://indico.ific.uv.es/event/8520/contributions/30100/
END:VEVENT
END:VCALENDAR
