BEGIN:VCALENDAR
VERSION:2.0
PRODID:-//CERN//INDICO//EN
BEGIN:VEVENT
SUMMARY:Presentación de la Jornada
DTSTART;VALUE=DATE-TIME:20260420T083500Z
DTEND;VALUE=DATE-TIME:20260420T085000Z
DTSTAMP;VALUE=DATE-TIME:20260421T175655Z
UID:indico-contribution-30099@indico.ific.uv.es
DESCRIPTION:Speakers: Sr. Prof. Dr. D. Lorenzo Brualla (IFIC\, CSIC-UV)\nh
 ttps://indico.ific.uv.es/event/8520/contributions/30099/
LOCATION:Parque Científico UV Salón de Actos. Edificio Cabecera
URL:https://indico.ific.uv.es/event/8520/contributions/30099/
END:VEVENT
END:VCALENDAR
