BEGIN:VCALENDAR
VERSION:2.0
PRODID:-//CERN//INDICO//EN
BEGIN:VEVENT
SUMMARY:Bienvenida al IFIC
DTSTART;VALUE=DATE-TIME:20260420T083000Z
DTEND;VALUE=DATE-TIME:20260420T083500Z
DTSTAMP;VALUE=DATE-TIME:20260420T195626Z
UID:indico-contribution-30098@indico.ific.uv.es
DESCRIPTION:Speakers: Sr. Prof. Dr. D. Sergio Pastor\, Director del IFIC (
 IFIC\, CSIC-UV)\nhttps://indico.ific.uv.es/event/8520/contributions/30098/
LOCATION:Parque Científico UV Salón de Actos. Edificio Cabecera
URL:https://indico.ific.uv.es/event/8520/contributions/30098/
END:VEVENT
END:VCALENDAR
