BEGIN:VCALENDAR
VERSION:2.0
PRODID:-//CERN//INDICO//EN
BEGIN:VEVENT
SUMMARY:Reflectance measurements
DTSTART;VALUE=DATE-TIME:20260311T091500Z
DTEND;VALUE=DATE-TIME:20260311T093500Z
DTSTAMP;VALUE=DATE-TIME:20260421T024950Z
UID:indico-contribution-30090@indico.ific.uv.es
DESCRIPTION:Speakers: Hamza Amar Es-sghir (IFIC (UV-CSIC))\nhttps://indico
 .ific.uv.es/event/8517/contributions/30090/
LOCATION:Universe 1001-Primera-119 - Nave. Exp. Sala de Reuniones
URL:https://indico.ific.uv.es/event/8517/contributions/30090/
END:VEVENT
END:VCALENDAR
