BEGIN:VCALENDAR
VERSION:2.0
PRODID:-//CERN//INDICO//EN
BEGIN:VEVENT
SUMMARY:Round of updates
DTSTART;VALUE=DATE-TIME:20260311T093500Z
DTEND;VALUE=DATE-TIME:20260311T094500Z
DTSTAMP;VALUE=DATE-TIME:20260420T234659Z
UID:indico-contribution-30088@indico.ific.uv.es
DESCRIPTION:https://indico.ific.uv.es/event/8517/contributions/30088/
LOCATION:Universe 1001-Primera-119 - Nave. Exp. Sala de Reuniones
URL:https://indico.ific.uv.es/event/8517/contributions/30088/
END:VEVENT
END:VCALENDAR
