BEGIN:VCALENDAR
VERSION:2.0
PRODID:-//CERN//INDICO//EN
BEGIN:VEVENT
SUMMARY:Status of data occupancy studies and firmware simulations
DTSTART;VALUE=DATE-TIME:20260310T093000Z
DTEND;VALUE=DATE-TIME:20260310T094000Z
DTSTAMP;VALUE=DATE-TIME:20260424T175553Z
UID:indico-contribution-8507-30058@indico.ific.uv.es
DESCRIPTION:Speakers: Sonakshi Ahuja ()\, Sonakshi Ahuja ()\nhttps://indic
 o.ific.uv.es/event/8507/contributions/30058/
LOCATION:Universe 1001-Baja-B-3 - Paterna. Sala de Juntas
URL:https://indico.ific.uv.es/event/8507/contributions/30058/
END:VEVENT
BEGIN:VEVENT
SUMMARY:Project budget status
DTSTART;VALUE=DATE-TIME:20260310T083000Z
DTEND;VALUE=DATE-TIME:20260310T084000Z
DTSTAMP;VALUE=DATE-TIME:20260424T175553Z
UID:indico-contribution-8507-30057@indico.ific.uv.es
DESCRIPTION:Speakers: Arantxa Ruiz Martinez (IFIC (CSIC-UV))\nhttps://indi
 co.ific.uv.es/event/8507/contributions/30057/
LOCATION:Universe 1001-Baja-B-3 - Paterna. Sala de Juntas
URL:https://indico.ific.uv.es/event/8507/contributions/30057/
END:VEVENT
BEGIN:VEVENT
SUMMARY:Status of IPMI and ACBB validation tests
DTSTART;VALUE=DATE-TIME:20260310T091500Z
DTEND;VALUE=DATE-TIME:20260310T092500Z
DTSTAMP;VALUE=DATE-TIME:20260424T175553Z
UID:indico-contribution-8507-30056@indico.ific.uv.es
DESCRIPTION:Speakers: Hernandez David (IFIC)\nhttps://indico.ific.uv.es/ev
 ent/8507/contributions/30056/
LOCATION:Universe 1001-Baja-B-3 - Paterna. Sala de Juntas
URL:https://indico.ific.uv.es/event/8507/contributions/30056/
END:VEVENT
BEGIN:VEVENT
SUMMARY:Status of FELIX
DTSTART;VALUE=DATE-TIME:20260310T090000Z
DTEND;VALUE=DATE-TIME:20260310T091000Z
DTSTAMP;VALUE=DATE-TIME:20260424T175553Z
UID:indico-contribution-8507-30055@indico.ific.uv.es
DESCRIPTION:Speakers: Ferran Ortiz Terol (IFIC\, CSIC-UV)\nhttps://indico.
 ific.uv.es/event/8507/contributions/30055/
LOCATION:Universe 1001-Baja-B-3 - Paterna. Sala de Juntas
URL:https://indico.ific.uv.es/event/8507/contributions/30055/
END:VEVENT
BEGIN:VEVENT
SUMMARY:Status of CPM
DTSTART;VALUE=DATE-TIME:20260310T085000Z
DTEND;VALUE=DATE-TIME:20260310T090000Z
DTSTAMP;VALUE=DATE-TIME:20260424T175553Z
UID:indico-contribution-8507-30054@indico.ific.uv.es
DESCRIPTION:Speakers: Fernando Carrió Argos (IFIC - UV)\, Fernando Carri
 ó Argos (IFIC (CSIC-UV))\nhttps://indico.ific.uv.es/event/8507/contributi
 ons/30054/
LOCATION:Universe 1001-Baja-B-3 - Paterna. Sala de Juntas
URL:https://indico.ific.uv.es/event/8507/contributions/30054/
END:VEVENT
BEGIN:VEVENT
SUMMARY:Status of ACBB
DTSTART;VALUE=DATE-TIME:20260310T084000Z
DTEND;VALUE=DATE-TIME:20260310T085000Z
DTSTAMP;VALUE=DATE-TIME:20260424T175553Z
UID:indico-contribution-8507-30053@indico.ific.uv.es
DESCRIPTION:Speakers: Alberto Valero (IFIC- Universidad de Valencia)\, Alb
 erto Valero ()\nhttps://indico.ific.uv.es/event/8507/contributions/30053/
LOCATION:Universe 1001-Baja-B-3 - Paterna. Sala de Juntas
URL:https://indico.ific.uv.es/event/8507/contributions/30053/
END:VEVENT
END:VCALENDAR
