BEGIN:VCALENDAR
VERSION:2.0
PRODID:-//CERN//INDICO//EN
BEGIN:VEVENT
SUMMARY:Status of CPM
DTSTART;VALUE=DATE-TIME:20260310T085000Z
DTEND;VALUE=DATE-TIME:20260310T090000Z
DTSTAMP;VALUE=DATE-TIME:20260422T112659Z
UID:indico-contribution-30054@indico.ific.uv.es
DESCRIPTION:Speakers: Fernando Carrió Argos (IFIC - UV)\, Fernando Carri
 ó Argos (IFIC (CSIC-UV))\nhttps://indico.ific.uv.es/event/8507/contributi
 ons/30054/
LOCATION:Universe 1001-Baja-B-3 - Paterna. Sala de Juntas
URL:https://indico.ific.uv.es/event/8507/contributions/30054/
END:VEVENT
END:VCALENDAR
