BEGIN:VCALENDAR
VERSION:2.0
PRODID:-//CERN//INDICO//EN
BEGIN:VEVENT
SUMMARY:Status of ACBB
DTSTART;VALUE=DATE-TIME:20260310T084000Z
DTEND;VALUE=DATE-TIME:20260310T085000Z
DTSTAMP;VALUE=DATE-TIME:20260422T073045Z
UID:indico-contribution-30053@indico.ific.uv.es
DESCRIPTION:Speakers: Alberto Valero (IFIC- Universidad de Valencia)\, Alb
 erto Valero ()\nhttps://indico.ific.uv.es/event/8507/contributions/30053/
LOCATION:Universe 1001-Baja-B-3 - Paterna. Sala de Juntas
URL:https://indico.ific.uv.es/event/8507/contributions/30053/
END:VEVENT
END:VCALENDAR
