BEGIN:VCALENDAR
VERSION:2.0
PRODID:-//CERN//INDICO//EN
BEGIN:VEVENT
SUMMARY:introduction
DTSTART;VALUE=DATE-TIME:20260313T100000Z
DTEND;VALUE=DATE-TIME:20260313T101000Z
DTSTAMP;VALUE=DATE-TIME:20260424T024937Z
UID:indico-contribution-30039@indico.ific.uv.es
DESCRIPTION:Speakers: Marcel Vos (IFIC Valencia)\, Maria Jose Costa (IFIC 
 (CSIC-UV))\, Salvador Marti Garcia (IFIC (CSIC-U.València))\nhttps://indi
 co.ific.uv.es/event/8503/contributions/30039/
LOCATION:
URL:https://indico.ific.uv.es/event/8503/contributions/30039/
END:VEVENT
END:VCALENDAR
