BEGIN:VCALENDAR
VERSION:2.0
PRODID:-//CERN//INDICO//EN
BEGIN:VEVENT
SUMMARY:Discussion
DTSTART;VALUE=DATE-TIME:20260506T072500Z
DTEND;VALUE=DATE-TIME:20260506T111000Z
DTSTAMP;VALUE=DATE-TIME:20260424T011650Z
UID:indico-event-5312@indico.ific.uv.es
DESCRIPTION:https://indico.ific.uv.es/event/8488/sessions/5312/
LOCATION:
URL:https://indico.ific.uv.es/event/8488/sessions/5312/
END:VEVENT
END:VCALENDAR
