BEGIN:VCALENDAR
VERSION:2.0
PRODID:-//CERN//INDICO//EN
BEGIN:VEVENT
SUMMARY:Possibilities for Spain in SHiP
DTSTART;VALUE=DATE-TIME:20260506T072500Z
DTEND;VALUE=DATE-TIME:20260506T074500Z
DTSTAMP;VALUE=DATE-TIME:20260424T122226Z
UID:indico-contribution-8488-30159@indico.ific.uv.es
DESCRIPTION:Speakers: JOSE MIGUEL JIMENEZ (CERN)\, Roberto Trigo (CDTI)\nh
 ttps://indico.ific.uv.es/event/8488/contributions/30159/
LOCATION:
URL:https://indico.ific.uv.es/event/8488/contributions/30159/
END:VEVENT
BEGIN:VEVENT
SUMMARY:Department of Electronics and Computer Science\, Granada Universit
 y
DTSTART;VALUE=DATE-TIME:20260505T145500Z
DTEND;VALUE=DATE-TIME:20260505T151000Z
DTSTAMP;VALUE=DATE-TIME:20260424T122226Z
UID:indico-contribution-8488-30281@indico.ific.uv.es
DESCRIPTION:Speakers: Jose Alberto Palma Lopez (UGR)\, Miguel Angel Carvaj
 al Rodriguez (UGR)\nhttps://indico.ific.uv.es/event/8488/contributions/302
 81/
LOCATION:
URL:https://indico.ific.uv.es/event/8488/contributions/30281/
END:VEVENT
BEGIN:VEVENT
SUMMARY:CIEMAT high energy physics group
DTSTART;VALUE=DATE-TIME:20260505T151000Z
DTEND;VALUE=DATE-TIME:20260505T152500Z
DTSTAMP;VALUE=DATE-TIME:20260424T122226Z
UID:indico-contribution-8488-30164@indico.ific.uv.es
DESCRIPTION:Speakers: Alberto Escalante del Valle (Centro de Investigacion
 es Energéticas\, Medioambientales y Tecnológicas)\, Cristina Fernández 
 Bedoya (CIEMAT)\nhttps://indico.ific.uv.es/event/8488/contributions/30164/
LOCATION:
URL:https://indico.ific.uv.es/event/8488/contributions/30164/
END:VEVENT
BEGIN:VEVENT
SUMMARY:Institute Cosmos Sciences of the University of Barcelona
DTSTART;VALUE=DATE-TIME:20260505T144000Z
DTEND;VALUE=DATE-TIME:20260505T145500Z
DTSTAMP;VALUE=DATE-TIME:20260424T122226Z
UID:indico-contribution-8488-30162@indico.ific.uv.es
DESCRIPTION:Speakers: David Gascon (ICC - Universitat de Barcelona)\, Osca
 r De la Torre (ICC - Universitat de Barcelona)\nhttps://indico.ific.uv.es/
 event/8488/contributions/30162/
LOCATION:
URL:https://indico.ific.uv.es/event/8488/contributions/30162/
END:VEVENT
BEGIN:VEVENT
SUMMARY:CSIC Institute of Structure of Matter
DTSTART;VALUE=DATE-TIME:20260505T142500Z
DTEND;VALUE=DATE-TIME:20260505T144000Z
DTSTAMP;VALUE=DATE-TIME:20260424T122226Z
UID:indico-contribution-8488-30161@indico.ific.uv.es
DESCRIPTION:Speakers: Teresa Kurtukian Nieto (CSIC-IEM)\nhttps://indico.if
 ic.uv.es/event/8488/contributions/30161/
LOCATION:
URL:https://indico.ific.uv.es/event/8488/contributions/30161/
END:VEVENT
BEGIN:VEVENT
SUMMARY:Instituto de Física Corpuscular (IFIC)
DTSTART;VALUE=DATE-TIME:20260505T141000Z
DTEND;VALUE=DATE-TIME:20260505T142500Z
DTSTAMP;VALUE=DATE-TIME:20260424T122226Z
UID:indico-contribution-8488-30160@indico.ific.uv.es
DESCRIPTION:https://indico.ific.uv.es/event/8488/contributions/30160/
LOCATION:
URL:https://indico.ific.uv.es/event/8488/contributions/30160/
END:VEVENT
BEGIN:VEVENT
SUMMARY:Activities on physics
DTSTART;VALUE=DATE-TIME:20260505T133000Z
DTEND;VALUE=DATE-TIME:20260505T134000Z
DTSTAMP;VALUE=DATE-TIME:20260424T122226Z
UID:indico-contribution-8488-30158@indico.ific.uv.es
DESCRIPTION:Speakers: Anne-Marie Magnan (Imperial College)\nhttps://indico
 .ific.uv.es/event/8488/contributions/30158/
LOCATION:
URL:https://indico.ific.uv.es/event/8488/contributions/30158/
END:VEVENT
BEGIN:VEVENT
SUMMARY:Computing
DTSTART;VALUE=DATE-TIME:20260505T132000Z
DTEND;VALUE=DATE-TIME:20260505T133000Z
DTSTAMP;VALUE=DATE-TIME:20260424T122226Z
UID:indico-contribution-8488-30157@indico.ific.uv.es
DESCRIPTION:Speakers: Oliver Lantwin (Universitat Siegen)\nhttps://indico.
 ific.uv.es/event/8488/contributions/30157/
LOCATION:
URL:https://indico.ific.uv.es/event/8488/contributions/30157/
END:VEVENT
BEGIN:VEVENT
SUMMARY:Detector readout electronics
DTSTART;VALUE=DATE-TIME:20260505T131000Z
DTEND;VALUE=DATE-TIME:20260505T132000Z
DTSTAMP;VALUE=DATE-TIME:20260424T122226Z
UID:indico-contribution-8488-30156@indico.ific.uv.es
DESCRIPTION:https://indico.ific.uv.es/event/8488/contributions/30156/
LOCATION:
URL:https://indico.ific.uv.es/event/8488/contributions/30156/
END:VEVENT
BEGIN:VEVENT
SUMMARY:Engineering
DTSTART;VALUE=DATE-TIME:20260505T130000Z
DTEND;VALUE=DATE-TIME:20260505T131000Z
DTSTAMP;VALUE=DATE-TIME:20260424T122226Z
UID:indico-contribution-8488-30155@indico.ific.uv.es
DESCRIPTION:Speakers: Pablo Santos Diaz (CERN)\nhttps://indico.ific.uv.es/
 event/8488/contributions/30155/
LOCATION:
URL:https://indico.ific.uv.es/event/8488/contributions/30155/
END:VEVENT
BEGIN:VEVENT
SUMMARY:Activities on the detector
DTSTART;VALUE=DATE-TIME:20260505T125000Z
DTEND;VALUE=DATE-TIME:20260505T130000Z
DTSTAMP;VALUE=DATE-TIME:20260424T122226Z
UID:indico-contribution-8488-30154@indico.ific.uv.es
DESCRIPTION:https://indico.ific.uv.es/event/8488/contributions/30154/
LOCATION:
URL:https://indico.ific.uv.es/event/8488/contributions/30154/
END:VEVENT
BEGIN:VEVENT
SUMMARY:Muon shield and monitoring
DTSTART;VALUE=DATE-TIME:20260505T124000Z
DTEND;VALUE=DATE-TIME:20260505T125000Z
DTSTAMP;VALUE=DATE-TIME:20260424T122226Z
UID:indico-contribution-8488-30153@indico.ific.uv.es
DESCRIPTION:Speakers: Massimiliano Ferro-Luzzi (CERN)\nhttps://indico.ific
 .uv.es/event/8488/contributions/30153/
LOCATION:
URL:https://indico.ific.uv.es/event/8488/contributions/30153/
END:VEVENT
BEGIN:VEVENT
SUMMARY:SHiP experiment status & plans
DTSTART;VALUE=DATE-TIME:20260505T121500Z
DTEND;VALUE=DATE-TIME:20260505T123500Z
DTSTAMP;VALUE=DATE-TIME:20260424T122226Z
UID:indico-contribution-8488-30152@indico.ific.uv.es
DESCRIPTION:Speakers: Richard Jacobsson (CERN)\nhttps://indico.ific.uv.es/
 event/8488/contributions/30152/
LOCATION:
URL:https://indico.ific.uv.es/event/8488/contributions/30152/
END:VEVENT
BEGIN:VEVENT
SUMMARY:Welcome by IFIC
DTSTART;VALUE=DATE-TIME:20260505T120000Z
DTEND;VALUE=DATE-TIME:20260505T121000Z
DTSTAMP;VALUE=DATE-TIME:20260424T122226Z
UID:indico-contribution-8488-29954@indico.ific.uv.es
DESCRIPTION:Speakers: Arantza Oyanguren (IFIC- Valencia)\, Laura Molina Bu
 eno (IFIC (CSIC/UV))\nhttps://indico.ific.uv.es/event/8488/contributions/2
 9954/
LOCATION:
URL:https://indico.ific.uv.es/event/8488/contributions/29954/
END:VEVENT
END:VCALENDAR
