BEGIN:VCALENDAR
VERSION:2.0
PRODID:-//CERN//INDICO//EN
BEGIN:VEVENT
SUMMARY:Spain@SHIP opportunities
DTSTART;VALUE=DATE-TIME:20260505T110000Z
DTEND;VALUE=DATE-TIME:20260506T160000Z
DTSTAMP;VALUE=DATE-TIME:20260419T142435Z
UID:indico-event-8488@indico.ific.uv.es
DESCRIPTION:\n\nhttps://indico.ific.uv.es/event/8488/
LOCATION:
URL:https://indico.ific.uv.es/event/8488/
END:VEVENT
END:VCALENDAR
