BEGIN:VCALENDAR
VERSION:2.0
PRODID:-//CERN//INDICO//EN
BEGIN:VEVENT
SUMMARY:CIEMAT high energy physics group
DTSTART;VALUE=DATE-TIME:20260505T151000Z
DTEND;VALUE=DATE-TIME:20260505T152500Z
DTSTAMP;VALUE=DATE-TIME:20260421T141022Z
UID:indico-contribution-30164@indico.ific.uv.es
DESCRIPTION:Speakers: Alberto Escalante del Valle (Centro de Investigacion
 es Energéticas\, Medioambientales y Tecnológicas)\, Cristina Fernández 
 Bedoya (CIEMAT)\nhttps://indico.ific.uv.es/event/8488/contributions/30164/
LOCATION:
URL:https://indico.ific.uv.es/event/8488/contributions/30164/
END:VEVENT
END:VCALENDAR
