BEGIN:VCALENDAR
VERSION:2.0
PRODID:-//CERN//INDICO//EN
BEGIN:VEVENT
SUMMARY:CSIC Institute of Structure of Matter
DTSTART;VALUE=DATE-TIME:20260505T142500Z
DTEND;VALUE=DATE-TIME:20260505T144000Z
DTSTAMP;VALUE=DATE-TIME:20260421T204607Z
UID:indico-contribution-30161@indico.ific.uv.es
DESCRIPTION:Speakers: Teresa Kurtukian Nieto (CSIC-IEM)\nhttps://indico.if
 ic.uv.es/event/8488/contributions/30161/
LOCATION:
URL:https://indico.ific.uv.es/event/8488/contributions/30161/
END:VEVENT
END:VCALENDAR
