BEGIN:VCALENDAR
VERSION:2.0
PRODID:-//CERN//INDICO//EN
BEGIN:VEVENT
SUMMARY:Possibilities for Spain in SHiP
DTSTART;VALUE=DATE-TIME:20260506T070000Z
DTEND;VALUE=DATE-TIME:20260506T072000Z
DTSTAMP;VALUE=DATE-TIME:20260420T195501Z
UID:indico-contribution-30159@indico.ific.uv.es
DESCRIPTION:Speakers: JOSE MIGUEL JIMENEZ (CERN)\, Roberto Trigo (CDTI)\nh
 ttps://indico.ific.uv.es/event/8488/contributions/30159/
LOCATION:
URL:https://indico.ific.uv.es/event/8488/contributions/30159/
END:VEVENT
END:VCALENDAR
