BEGIN:VCALENDAR
VERSION:2.0
PRODID:-//CERN//INDICO//EN
BEGIN:VEVENT
SUMMARY:SHiP experiment status & plans
DTSTART;VALUE=DATE-TIME:20260505T121500Z
DTEND;VALUE=DATE-TIME:20260505T123500Z
DTSTAMP;VALUE=DATE-TIME:20260421T021250Z
UID:indico-contribution-30152@indico.ific.uv.es
DESCRIPTION:Speakers: Richard Jacobsson (CERN)\nhttps://indico.ific.uv.es/
 event/8488/contributions/30152/
LOCATION:
URL:https://indico.ific.uv.es/event/8488/contributions/30152/
END:VEVENT
END:VCALENDAR
