BEGIN:VCALENDAR
VERSION:2.0
PRODID:-//CERN//INDICO//EN
BEGIN:VEVENT
SUMMARY:Welcome by IFIC
DTSTART;VALUE=DATE-TIME:20260505T120000Z
DTEND;VALUE=DATE-TIME:20260505T121000Z
DTSTAMP;VALUE=DATE-TIME:20260422T105758Z
UID:indico-contribution-29954@indico.ific.uv.es
DESCRIPTION:Speakers: Arantza Oyanguren (IFIC- Valencia)\, Laura Molina Bu
 eno (IFIC (CSIC/UV))\nhttps://indico.ific.uv.es/event/8488/contributions/2
 9954/
LOCATION:
URL:https://indico.ific.uv.es/event/8488/contributions/29954/
END:VEVENT
END:VCALENDAR
