BEGIN:VCALENDAR
VERSION:2.0
PRODID:-//CERN//INDICO//EN
BEGIN:VEVENT
SUMMARY:Clausura del acto
DTSTART;VALUE=DATE-TIME:20260421T115500Z
DTEND;VALUE=DATE-TIME:20260421T120000Z
DTSTAMP;VALUE=DATE-TIME:20260423T030911Z
UID:indico-contribution-30301@indico.ific.uv.es
DESCRIPTION:https://indico.ific.uv.es/event/8392/contributions/30301/
LOCATION:Edificio de Cabecera del PCUV Salón de Actos
URL:https://indico.ific.uv.es/event/8392/contributions/30301/
END:VEVENT
END:VCALENDAR
