BEGIN:VCALENDAR
VERSION:2.0
PRODID:-//CERN//INDICO//EN
BEGIN:VEVENT
SUMMARY:Palabras de finalización del acto
DTSTART;VALUE=DATE-TIME:20260421T114500Z
DTEND;VALUE=DATE-TIME:20260421T115500Z
DTSTAMP;VALUE=DATE-TIME:20260422T115620Z
UID:indico-contribution-30300@indico.ific.uv.es
DESCRIPTION:https://indico.ific.uv.es/event/8392/contributions/30300/
LOCATION:Edificio de Cabecera del PCUV Salón de Actos
URL:https://indico.ific.uv.es/event/8392/contributions/30300/
END:VEVENT
END:VCALENDAR
