BEGIN:VCALENDAR
VERSION:2.0
PRODID:-//CERN//INDICO//EN
BEGIN:VEVENT
SUMMARY:Textos de Adhesión
DTSTART;VALUE=DATE-TIME:20260421T102500Z
DTEND;VALUE=DATE-TIME:20260421T103500Z
DTSTAMP;VALUE=DATE-TIME:20260423T033639Z
UID:indico-contribution-30298@indico.ific.uv.es
DESCRIPTION:https://indico.ific.uv.es/event/8392/contributions/30298/
LOCATION:Edificio de Cabecera del PCUV Salón de Actos
URL:https://indico.ific.uv.es/event/8392/contributions/30298/
END:VEVENT
END:VCALENDAR
