BEGIN:VCALENDAR
VERSION:2.0
PRODID:-//CERN//INDICO//EN
BEGIN:VEVENT
SUMMARY:M. Dolores Rodríguez Frías
DTSTART;VALUE=DATE-TIME:20260421T095500Z
DTEND;VALUE=DATE-TIME:20260421T100500Z
DTSTAMP;VALUE=DATE-TIME:20260422T180930Z
UID:indico-contribution-30297@indico.ific.uv.es
DESCRIPTION:https://indico.ific.uv.es/event/8392/contributions/30297/
LOCATION:Edificio de Cabecera del PCUV Salón de Actos
URL:https://indico.ific.uv.es/event/8392/contributions/30297/
END:VEVENT
END:VCALENDAR
