BEGIN:VCALENDAR
VERSION:2.0
PRODID:-//CERN//INDICO//EN
BEGIN:VEVENT
SUMMARY:Francisco Botella
DTSTART;VALUE=DATE-TIME:20260421T094500Z
DTEND;VALUE=DATE-TIME:20260421T095500Z
DTSTAMP;VALUE=DATE-TIME:20260423T030911Z
UID:indico-contribution-30295@indico.ific.uv.es
DESCRIPTION:https://indico.ific.uv.es/event/8392/contributions/30295/
LOCATION:Edificio de Cabecera del PCUV Salón de Actos
URL:https://indico.ific.uv.es/event/8392/contributions/30295/
END:VEVENT
END:VCALENDAR
