BEGIN:VCALENDAR
VERSION:2.0
PRODID:-//CERN//INDICO//EN
BEGIN:VEVENT
SUMMARY:Santiago González de la Hoz
DTSTART;VALUE=DATE-TIME:20260421T093500Z
DTEND;VALUE=DATE-TIME:20260421T094500Z
DTSTAMP;VALUE=DATE-TIME:20260424T113739Z
UID:indico-contribution-30294@indico.ific.uv.es
DESCRIPTION:https://indico.ific.uv.es/event/8392/contributions/30294/
LOCATION:Edificio de Cabecera del PCUV Salón de Actos
URL:https://indico.ific.uv.es/event/8392/contributions/30294/
END:VEVENT
END:VCALENDAR
