BEGIN:VCALENDAR
VERSION:2.0
PRODID:-//CERN//INDICO//EN
BEGIN:VEVENT
SUMMARY:Miguel Ángel Sanchis
DTSTART;VALUE=DATE-TIME:20260421T092500Z
DTEND;VALUE=DATE-TIME:20260421T093500Z
DTSTAMP;VALUE=DATE-TIME:20260424T044959Z
UID:indico-contribution-30293@indico.ific.uv.es
DESCRIPTION:https://indico.ific.uv.es/event/8392/contributions/30293/
LOCATION:Edificio de Cabecera del PCUV Salón de Actos
URL:https://indico.ific.uv.es/event/8392/contributions/30293/
END:VEVENT
END:VCALENDAR
