BEGIN:VCALENDAR
VERSION:2.0
PRODID:-//CERN//INDICO//EN
BEGIN:VEVENT
SUMMARY:Alberto Ruiz
DTSTART;VALUE=DATE-TIME:20260421T091500Z
DTEND;VALUE=DATE-TIME:20260421T092500Z
DTSTAMP;VALUE=DATE-TIME:20260423T033639Z
UID:indico-contribution-30292@indico.ific.uv.es
DESCRIPTION:https://indico.ific.uv.es/event/8392/contributions/30292/
LOCATION:Edificio de Cabecera del PCUV Salón de Actos
URL:https://indico.ific.uv.es/event/8392/contributions/30292/
END:VEVENT
END:VCALENDAR
