BEGIN:VCALENDAR
VERSION:2.0
PRODID:-//CERN//INDICO//EN
BEGIN:VEVENT
SUMMARY:José María Benlloch
DTSTART;VALUE=DATE-TIME:20260421T075500Z
DTEND;VALUE=DATE-TIME:20260421T080500Z
DTSTAMP;VALUE=DATE-TIME:20260422T115515Z
UID:indico-contribution-30287@indico.ific.uv.es
DESCRIPTION:https://indico.ific.uv.es/event/8392/contributions/30287/
LOCATION:Edificio de Cabecera del PCUV Salón de Actos
URL:https://indico.ific.uv.es/event/8392/contributions/30287/
END:VEVENT
END:VCALENDAR
