BEGIN:VCALENDAR
VERSION:2.0
PRODID:-//CERN//INDICO//EN
BEGIN:VEVENT
SUMMARY:Emilio Higón
DTSTART;VALUE=DATE-TIME:20260421T074500Z
DTEND;VALUE=DATE-TIME:20260421T075500Z
DTSTAMP;VALUE=DATE-TIME:20260423T030912Z
UID:indico-contribution-30286@indico.ific.uv.es
DESCRIPTION:https://indico.ific.uv.es/event/8392/contributions/30286/
LOCATION:Edificio de Cabecera del PCUV Salón de Actos
URL:https://indico.ific.uv.es/event/8392/contributions/30286/
END:VEVENT
END:VCALENDAR
