BEGIN:VCALENDAR
VERSION:2.0
PRODID:-//CERN//INDICO//EN
BEGIN:VEVENT
SUMMARY:François Richard - (On line)
DTSTART;VALUE=DATE-TIME:20260421T072500Z
DTEND;VALUE=DATE-TIME:20260421T073500Z
DTSTAMP;VALUE=DATE-TIME:20260423T030911Z
UID:indico-contribution-30284@indico.ific.uv.es
DESCRIPTION:https://indico.ific.uv.es/event/8392/contributions/30284/
LOCATION:Edificio de Cabecera del PCUV Salón de Actos
URL:https://indico.ific.uv.es/event/8392/contributions/30284/
END:VEVENT
END:VCALENDAR
