BEGIN:VCALENDAR
VERSION:2.0
PRODID:-//CERN//INDICO//EN
BEGIN:VEVENT
SUMMARY:José Luis Ferrer Soria
DTSTART;VALUE=DATE-TIME:20260421T071000Z
DTEND;VALUE=DATE-TIME:20260421T072500Z
DTSTAMP;VALUE=DATE-TIME:20260424T005839Z
UID:indico-contribution-30283@indico.ific.uv.es
DESCRIPTION:https://indico.ific.uv.es/event/8392/contributions/30283/
LOCATION:Edificio de Cabecera del PCUV Salón de Actos
URL:https://indico.ific.uv.es/event/8392/contributions/30283/
END:VEVENT
END:VCALENDAR
