BEGIN:VCALENDAR
VERSION:2.0
PRODID:-//CERN//INDICO//EN
BEGIN:VEVENT
SUMMARY:Bienvenida/Welcome - José Salt (en nombre del Comité Organizador
 )
DTSTART;VALUE=DATE-TIME:20260421T070000Z
DTEND;VALUE=DATE-TIME:20260421T071000Z
DTSTAMP;VALUE=DATE-TIME:20260423T030911Z
UID:indico-contribution-30282@indico.ific.uv.es
DESCRIPTION:https://indico.ific.uv.es/event/8392/contributions/30282/
LOCATION:Edificio de Cabecera del PCUV Salón de Actos
URL:https://indico.ific.uv.es/event/8392/contributions/30282/
END:VEVENT
END:VCALENDAR
