BEGIN:VCALENDAR
VERSION:2.0
PRODID:-//CERN//INDICO//EN
BEGIN:VEVENT
SUMMARY:Simulación modelo gota líquida
DTSTART;VALUE=DATE-TIME:20260217T140000Z
DTEND;VALUE=DATE-TIME:20260217T150000Z
DTSTAMP;VALUE=DATE-TIME:20260419T175355Z
UID:indico-contribution-29830@indico.ific.uv.es
DESCRIPTION:Speakers: Alejandro Algora (IFIC (CSIC-Univ. Valencia))\nhttps
 ://indico.ific.uv.es/event/8370/contributions/29830/
LOCATION:Facultat de Matemáticas Aulas de informática IV y V
URL:https://indico.ific.uv.es/event/8370/contributions/29830/
END:VEVENT
END:VCALENDAR
