BEGIN:VCALENDAR
VERSION:2.0
PRODID:-//CERN//INDICO//EN
BEGIN:VEVENT
SUMMARY:Quiz y puesta en común
DTSTART;VALUE=DATE-TIME:20260217T153000Z
DTEND;VALUE=DATE-TIME:20260217T160000Z
DTSTAMP;VALUE=DATE-TIME:20260419T171641Z
UID:indico-contribution-29559@indico.ific.uv.es
DESCRIPTION:Speakers: David Rodriguez Garcia (IFIC)\nhttps://indico.ific.u
 v.es/event/8370/contributions/29559/
LOCATION:Facultat de Matemàtiques      Salón de grados
URL:https://indico.ific.uv.es/event/8370/contributions/29559/
END:VEVENT
END:VCALENDAR
