BEGIN:VCALENDAR
VERSION:2.0
PRODID:-//CERN//INDICO//EN
BEGIN:VEVENT
SUMMARY:Conexión con ISOLDE-CERN
DTSTART;VALUE=DATE-TIME:20260217T150000Z
DTEND;VALUE=DATE-TIME:20260217T153000Z
DTSTAMP;VALUE=DATE-TIME:20260422T105703Z
UID:indico-contribution-29558@indico.ific.uv.es
DESCRIPTION:Speakers: Victoria Vedia (TRIUMF)\nhttps://indico.ific.uv.es/e
 vent/8370/contributions/29558/
LOCATION:Facultat de Matemàtiques      Salón de grados
URL:https://indico.ific.uv.es/event/8370/contributions/29558/
END:VEVENT
END:VCALENDAR
