BEGIN:VCALENDAR
VERSION:2.0
PRODID:-//CERN//INDICO//EN
BEGIN:VEVENT
SUMMARY:Introducción a la Facultat de Física
DTSTART;VALUE=DATE-TIME:20260217T133000Z
DTEND;VALUE=DATE-TIME:20260217T140000Z
DTSTAMP;VALUE=DATE-TIME:20260420T161118Z
UID:indico-contribution-29556@indico.ific.uv.es
DESCRIPTION:Speakers: Avelino Vicente (IFIC\, CSIC-UV)\nCharla sobre los e
 studios de física en la UV por el Vicedecano de la Facultat de Física.\n
 \nhttps://indico.ific.uv.es/event/8370/contributions/29556/
LOCATION:Facultat de Matemàtiques Salón de Grados
URL:https://indico.ific.uv.es/event/8370/contributions/29556/
END:VEVENT
END:VCALENDAR
